Package: GDSArray Version: 1.29.0 Command: /home/biocbuild/bbs-3.22-bioc/R/bin/R CMD INSTALL GDSArray StartedAt: 2025-10-24 15:35:07 -0400 (Fri, 24 Oct 2025) EndedAt: 2025-10-24 15:35:23 -0400 (Fri, 24 Oct 2025) EllapsedTime: 16.6 seconds RetCode: 0 Status: OK