Package: GDSArray Version: 1.30.0 Command: /Library/Frameworks/R.framework/Resources/bin/R CMD INSTALL GDSArray StartedAt: 2025-11-03 15:31:41 -0500 (Mon, 03 Nov 2025) EndedAt: 2025-11-03 15:32:05 -0500 (Mon, 03 Nov 2025) EllapsedTime: 24.1 seconds RetCode: 0 Status: OK