Package: GDSArray Version: 1.30.0 Command: /Library/Frameworks/R.framework/Resources/bin/R CMD build --keep-empty-dirs --no-resave-data GDSArray StartedAt: 2025-11-03 17:06:40 -0500 (Mon, 03 Nov 2025) EndedAt: 2025-11-03 17:07:15 -0500 (Mon, 03 Nov 2025) EllapsedTime: 34.4 seconds RetCode: 0 Status: OK PackageFile: GDSArray_1.30.0.tar.gz PackageFileSize: 305.5 KiB