Package: GDSArray Version: 1.30.0 Command: rm -rf GDSArray.buildbin-libdir && mkdir GDSArray.buildbin-libdir && /Users/biocbuild/BBS/utils/build-universal.sh GDSArray_1.30.0.tar.gz /Library/Frameworks/R.framework/Resources/bin/R GDSArray.buildbin-libdir StartedAt: 2025-11-04 01:41:17 -0500 (Tue, 04 Nov 2025) EndedAt: 2025-11-04 01:41:47 -0500 (Tue, 04 Nov 2025) EllapsedTime: 29.9 seconds RetCode: 0 Status: OK PackageFile: GDSArray_1.30.0.tgz PackageFileSize: 664.9 KiB