Package: GDSArray Version: 1.30.0 Maintainer: Xiuwen Zheng MaintainerEmail: zhengx at u.washington.edu git_url: https://git.bioconductor.org/packages/GDSArray git_branch: RELEASE_3_22 git_last_commit: 421dd04 git_last_commit_date: 2025-10-29 10:44:25 -0500 (Wed, 29 Oct 2025)