Package: GDCRNATools Version: 1.30.0 Command: /home/biocbuild/bbs-3.22-bioc/R/bin/R CMD INSTALL GDCRNATools StartedAt: 2025-11-14 15:51:39 -0500 (Fri, 14 Nov 2025) EndedAt: 2025-11-14 15:52:41 -0500 (Fri, 14 Nov 2025) EllapsedTime: 61.5 seconds RetCode: 0 Status: OK