Package: GDCRNATools Version: 1.30.0 Command: /home/biocbuild/bbs-3.22-bioc/R/bin/R CMD build --keep-empty-dirs --no-resave-data --md5 GDCRNATools StartedAt: 2025-11-14 17:47:21 -0500 (Fri, 14 Nov 2025) EndedAt: 2025-11-14 17:48:22 -0500 (Fri, 14 Nov 2025) EllapsedTime: 61.0 seconds RetCode: 0 Status: OK PackageFile: GDCRNATools_1.30.0.tar.gz PackageFileSize: 5.315 MiB