Package: GBScleanR Version: 2.4.0 Command: /home/biocbuild/bbs-3.22-bioc/R/bin/R CMD INSTALL GBScleanR StartedAt: 2025-11-11 15:36:17 -0500 (Tue, 11 Nov 2025) EndedAt: 2025-11-11 15:37:03 -0500 (Tue, 11 Nov 2025) EllapsedTime: 46.0 seconds RetCode: 0 Status: OK