Package: GBScleanR Version: 2.4.0 Command: /home/biocbuild/bbs-3.22-bioc/R/bin/R CMD build --keep-empty-dirs --no-resave-data --md5 GBScleanR StartedAt: 2025-11-11 17:47:47 -0500 (Tue, 11 Nov 2025) EndedAt: 2025-11-11 17:48:39 -0500 (Tue, 11 Nov 2025) EllapsedTime: 52.0 seconds RetCode: 1 Status: ERROR PackageFile: None PackageFileSize: NA