Package: GARS Version: 1.30.0 Command: /home/biocbuild/bbs-3.22-bioc/R/bin/R CMD build --keep-empty-dirs --no-resave-data --md5 GARS StartedAt: 2025-11-16 17:49:44 -0500 (Sun, 16 Nov 2025) EndedAt: 2025-11-16 17:51:35 -0500 (Sun, 16 Nov 2025) EllapsedTime: 111.1 seconds RetCode: 0 Status: OK PackageFile: GARS_1.30.0.tar.gz PackageFileSize: 440.7 KiB