Package: GA4GHshiny Version: 1.32.0 Command: /home/biocbuild/bbs-3.22-bioc/R/bin/R CMD INSTALL GA4GHshiny StartedAt: 2025-11-16 15:47:02 -0500 (Sun, 16 Nov 2025) EndedAt: 2025-11-16 15:47:48 -0500 (Sun, 16 Nov 2025) EllapsedTime: 46.1 seconds RetCode: 0 Status: OK