Package: GA4GHclient Version: 1.33.1 Command: /home/biocbuild/bbs-3.22-bioc/R/bin/R CMD INSTALL GA4GHclient StartedAt: 2025-10-24 15:56:01 -0400 (Fri, 24 Oct 2025) EndedAt: 2025-10-24 15:56:38 -0400 (Fri, 24 Oct 2025) EllapsedTime: 37.5 seconds RetCode: 0 Status: OK