Package: GA4GHclient Version: 1.33.1 Command: /home/biocbuild/bbs-3.22-bioc/R/bin/R CMD build --keep-empty-dirs --no-resave-data --md5 GA4GHclient StartedAt: 2025-10-24 17:52:07 -0400 (Fri, 24 Oct 2025) EndedAt: 2025-10-24 17:53:31 -0400 (Fri, 24 Oct 2025) EllapsedTime: 84.1 seconds RetCode: 0 Status: OK PackageFile: GA4GHclient_1.33.1.tar.gz PackageFileSize: 639.9 KiB