Package: GA4GHclient Version: 1.34.0 Command: /Library/Frameworks/R.framework/Resources/bin/R CMD build --keep-empty-dirs --no-resave-data GA4GHclient StartedAt: 2025-11-10 16:26:33 -0500 (Mon, 10 Nov 2025) EndedAt: 2025-11-10 16:27:11 -0500 (Mon, 10 Nov 2025) EllapsedTime: 37.4 seconds RetCode: 0 Status: OK PackageFile: GA4GHclient_1.34.0.tar.gz PackageFileSize: 637.5 KiB