Package: GA4GHclient Version: 1.34.0 Command: rm -rf GA4GHclient.buildbin-libdir && mkdir GA4GHclient.buildbin-libdir && /Users/biocbuild/BBS/utils/build-universal.sh GA4GHclient_1.34.0.tar.gz /Library/Frameworks/R.framework/Resources/bin/R GA4GHclient.buildbin-libdir StartedAt: 2025-11-10 23:20:33 -0500 (Mon, 10 Nov 2025) EndedAt: 2025-11-10 23:20:55 -0500 (Mon, 10 Nov 2025) EllapsedTime: 22.4 seconds RetCode: 0 Status: OK PackageFile: GA4GHclient_1.34.0.tgz PackageFileSize: 761.1 KiB