Package: FuseSOM Version: 1.12.0 Command: /Library/Frameworks/R.framework/Resources/bin/R CMD INSTALL FuseSOM StartedAt: 2025-11-10 15:11:23 -0500 (Mon, 10 Nov 2025) EndedAt: 2025-11-10 15:11:35 -0500 (Mon, 10 Nov 2025) EllapsedTime: 11.7 seconds RetCode: 0 Status: OK