Package: FlowSOM Version: 2.18.0 Command: /Library/Frameworks/R.framework/Resources/bin/R CMD build --keep-empty-dirs --no-resave-data FlowSOM StartedAt: 2025-11-17 22:31:05 -0500 (Mon, 17 Nov 2025) EndedAt: 2025-11-17 22:34:58 -0500 (Mon, 17 Nov 2025) EllapsedTime: 233.0 seconds RetCode: 0 Status: OK PackageFile: FlowSOM_2.18.0.tar.gz PackageFileSize: 4.908 MiB