Package: FlowSOM Version: 2.18.0 Command: /Library/Frameworks/R.framework/Resources/bin/R CMD INSTALL FlowSOM StartedAt: 2025-11-02 15:23:49 -0500 (Sun, 02 Nov 2025) EndedAt: 2025-11-02 15:24:19 -0500 (Sun, 02 Nov 2025) EllapsedTime: 29.8 seconds RetCode: 0 Status: OK