Package: FlowSOM Version: 2.18.0 Command: /Library/Frameworks/R.framework/Resources/bin/R CMD build --keep-empty-dirs --no-resave-data FlowSOM StartedAt: 2025-11-03 17:03:59 -0500 (Mon, 03 Nov 2025) EndedAt: 2025-11-03 17:06:00 -0500 (Mon, 03 Nov 2025) EllapsedTime: 121.1 seconds RetCode: 0 Status: OK PackageFile: FlowSOM_2.18.0.tar.gz PackageFileSize: 4.902 MiB