Package: FlowSOM Version: 2.18.0 Command: /Library/Frameworks/R.framework/Resources/bin/R CMD INSTALL FlowSOM StartedAt: 2025-11-17 17:13:19 -0500 (Mon, 17 Nov 2025) EndedAt: 2025-11-17 17:13:25 -0500 (Mon, 17 Nov 2025) EllapsedTime: 5.9 seconds RetCode: 0 Status: OK