Package: FlowSOM Version: 2.18.0 Command: /Library/Frameworks/R.framework/Resources/bin/R CMD build --keep-empty-dirs --no-resave-data FlowSOM StartedAt: 2025-11-17 21:15:52 -0500 (Mon, 17 Nov 2025) EndedAt: 2025-11-17 21:16:37 -0500 (Mon, 17 Nov 2025) EllapsedTime: 44.5 seconds RetCode: 0 Status: OK PackageFile: FlowSOM_2.18.0.tar.gz PackageFileSize: 4.909 MiB