Package: FlowSOM Version: 2.18.0 Command: rm -rf FlowSOM.buildbin-libdir && mkdir FlowSOM.buildbin-libdir && /Users/biocbuild/BBS/utils/build-universal.sh FlowSOM_2.18.0.tar.gz /Library/Frameworks/R.framework/Resources/bin/R FlowSOM.buildbin-libdir StartedAt: 2025-11-18 15:34:04 -0500 (Tue, 18 Nov 2025) EndedAt: 2025-11-18 15:34:12 -0500 (Tue, 18 Nov 2025) EllapsedTime: 8.1 seconds RetCode: 0 Status: OK PackageFile: FlowSOM_2.18.0.tgz PackageFileSize: 5.241 MiB