Package: FitHiC Version: 1.36.0 Command: /Library/Frameworks/R.framework/Resources/bin/R CMD build --keep-empty-dirs --no-resave-data FitHiC StartedAt: 2025-11-03 17:02:24 -0500 (Mon, 03 Nov 2025) EndedAt: 2025-11-03 17:04:46 -0500 (Mon, 03 Nov 2025) EllapsedTime: 141.7 seconds RetCode: 0 Status: OK PackageFile: FitHiC_1.36.0.tar.gz PackageFileSize: 27.88 MiB