Package: FitHiC Version: 1.36.0 Command: /Library/Frameworks/R.framework/Resources/bin/R CMD INSTALL FitHiC StartedAt: 2025-11-17 16:51:27 -0500 (Mon, 17 Nov 2025) EndedAt: 2025-11-17 16:51:31 -0500 (Mon, 17 Nov 2025) EllapsedTime: 3.4 seconds RetCode: 0 Status: OK