Package: FitHiC Version: 1.36.0 Command: /Library/Frameworks/R.framework/Resources/bin/R CMD build --keep-empty-dirs --no-resave-data FitHiC StartedAt: 2025-11-17 21:11:39 -0500 (Mon, 17 Nov 2025) EndedAt: 2025-11-17 21:12:37 -0500 (Mon, 17 Nov 2025) EllapsedTime: 58.6 seconds RetCode: 0 Status: OK PackageFile: FitHiC_1.36.0.tar.gz PackageFileSize: 27.88 MiB