Package: FitHiC Version: 1.36.0 Command: rm -rf FitHiC.buildbin-libdir && mkdir FitHiC.buildbin-libdir && /Users/biocbuild/BBS/utils/build-universal.sh FitHiC_1.36.0.tar.gz /Library/Frameworks/R.framework/Resources/bin/R FitHiC.buildbin-libdir StartedAt: 2025-11-18 15:33:29 -0500 (Tue, 18 Nov 2025) EndedAt: 2025-11-18 15:33:36 -0500 (Tue, 18 Nov 2025) EllapsedTime: 7.1 seconds RetCode: 0 Status: OK PackageFile: FitHiC_1.36.0.tgz PackageFileSize: 27.95 MiB