Package: FinfoMDS Version: 1.0.0 Command: /home/biocbuild/bbs-3.22-bioc/R/bin/R CMD build --keep-empty-dirs --no-resave-data --md5 FinfoMDS StartedAt: 2025-10-31 17:48:43 -0400 (Fri, 31 Oct 2025) EndedAt: 2025-10-31 17:49:35 -0400 (Fri, 31 Oct 2025) EllapsedTime: 52.1 seconds RetCode: 0 Status: OK PackageFile: FinfoMDS_1.0.0.tar.gz PackageFileSize: 358.1 KiB