Package: FindIT2 Version: 1.16.0 Command: /home/biocbuild/bbs-3.22-bioc/R/bin/R CMD INSTALL FindIT2 StartedAt: 2025-11-03 15:42:20 -0500 (Mon, 03 Nov 2025) EndedAt: 2025-11-03 15:42:57 -0500 (Mon, 03 Nov 2025) EllapsedTime: 37.2 seconds RetCode: 0 Status: OK