Package: FindIT2 Version: 1.16.0 Command: /home/biocbuild/bbs-3.22-bioc/R/bin/R CMD build --keep-empty-dirs --no-resave-data --md5 FindIT2 StartedAt: 2025-10-31 17:48:33 -0400 (Fri, 31 Oct 2025) EndedAt: 2025-10-31 17:50:02 -0400 (Fri, 31 Oct 2025) EllapsedTime: 89.1 seconds RetCode: 0 Status: OK PackageFile: FindIT2_1.16.0.tar.gz PackageFileSize: 2.218 MiB