Package: FISHalyseR Version: 1.44.0 Command: /home/biocbuild/bbs-3.22-bioc/R/bin/R CMD INSTALL FISHalyseR StartedAt: 2025-11-25 15:38:11 -0500 (Tue, 25 Nov 2025) EndedAt: 2025-11-25 15:38:15 -0500 (Tue, 25 Nov 2025) EllapsedTime: 4.5 seconds RetCode: 0 Status: OK