Package: FELLA Version: 1.30.0 Command: /home/biocbuild/bbs-3.22-bioc/R/bin/R CMD INSTALL FELLA StartedAt: 2025-11-16 15:26:09 -0500 (Sun, 16 Nov 2025) EndedAt: 2025-11-16 15:26:24 -0500 (Sun, 16 Nov 2025) EllapsedTime: 15.3 seconds RetCode: 0 Status: OK