Package: FELLA Version: 1.30.0 Command: /home/biocbuild/bbs-3.22-bioc/R/bin/R CMD build --keep-empty-dirs --no-resave-data --md5 FELLA StartedAt: 2025-11-16 17:44:42 -0500 (Sun, 16 Nov 2025) EndedAt: 2025-11-16 18:07:57 -0500 (Sun, 16 Nov 2025) EllapsedTime: 1394.3 seconds RetCode: 0 Status: OK PackageFile: FELLA_1.30.0.tar.gz PackageFileSize: 4.173 MiB