Package: ExpressionAtlas Version: 2.1.1 Command: /home/biocbuild/bbs-3.22-bioc/R/bin/R CMD INSTALL ExpressionAtlas StartedAt: 2025-10-27 15:51:24 -0400 (Mon, 27 Oct 2025) EndedAt: 2025-10-27 15:51:48 -0400 (Mon, 27 Oct 2025) EllapsedTime: 23.2 seconds RetCode: 0 Status: OK