Package: ExpressionAtlas Version: 2.1.1 Command: /home/biocbuild/bbs-3.22-bioc/R/bin/R CMD build --keep-empty-dirs --no-resave-data --md5 ExpressionAtlas StartedAt: 2025-10-27 17:36:58 -0400 (Mon, 27 Oct 2025) EndedAt: 2025-10-27 17:37:29 -0400 (Mon, 27 Oct 2025) EllapsedTime: 31.0 seconds RetCode: 0 Status: OK PackageFile: ExpressionAtlas_2.1.1.tar.gz PackageFileSize: 319.6 KiB