Package: ExpressionAtlas Version: 2.1.1 Command: /Library/Frameworks/R.framework/Resources/bin/R CMD INSTALL ExpressionAtlas StartedAt: 2025-10-28 15:26:49 -0400 (Tue, 28 Oct 2025) EndedAt: 2025-10-28 15:26:58 -0400 (Tue, 28 Oct 2025) EllapsedTime: 9.2 seconds RetCode: 0 Status: OK