Package: ExpressionAtlas Version: 2.1.1 Command: /Library/Frameworks/R.framework/Resources/bin/R CMD build --keep-empty-dirs --no-resave-data ExpressionAtlas StartedAt: 2025-10-28 16:22:49 -0400 (Tue, 28 Oct 2025) EndedAt: 2025-10-28 16:23:03 -0400 (Tue, 28 Oct 2025) EllapsedTime: 14.2 seconds RetCode: 0 Status: OK PackageFile: ExpressionAtlas_2.1.1.tar.gz PackageFileSize: 319.3 KiB