Package: ExpressionAtlas Version: 2.1.1 Command: rm -rf ExpressionAtlas.buildbin-libdir && mkdir ExpressionAtlas.buildbin-libdir && /Users/biocbuild/BBS/utils/build-universal.sh ExpressionAtlas_2.1.1.tar.gz /Library/Frameworks/R.framework/Resources/bin/R ExpressionAtlas.buildbin-libdir StartedAt: 2025-10-28 22:59:23 -0400 (Tue, 28 Oct 2025) EndedAt: 2025-10-28 22:59:34 -0400 (Tue, 28 Oct 2025) EllapsedTime: 10.2 seconds RetCode: 0 Status: OK PackageFile: ExpressionAtlas_2.1.1.tgz PackageFileSize: 346.8 KiB