Package: ExpressionAtlas Version: 2.2.0 Command: /Library/Frameworks/R.framework/Resources/bin/R CMD INSTALL ExpressionAtlas StartedAt: 2025-11-17 18:21:03 -0500 (Mon, 17 Nov 2025) EndedAt: 2025-11-17 18:21:12 -0500 (Mon, 17 Nov 2025) EllapsedTime: 9.1 seconds RetCode: 0 Status: OK