Package: ExpressionAtlas Version: 2.2.0 Command: /Library/Frameworks/R.framework/Resources/bin/R CMD build --keep-empty-dirs --no-resave-data ExpressionAtlas StartedAt: 2025-11-17 21:08:34 -0500 (Mon, 17 Nov 2025) EndedAt: 2025-11-17 21:08:47 -0500 (Mon, 17 Nov 2025) EllapsedTime: 13.1 seconds RetCode: 0 Status: OK PackageFile: ExpressionAtlas_2.2.0.tar.gz PackageFileSize: 319.3 KiB