Package: ExpressionAtlas Version: 2.2.0 Command: rm -rf ExpressionAtlas.buildbin-libdir && mkdir ExpressionAtlas.buildbin-libdir && /Users/biocbuild/BBS/utils/build-universal.sh ExpressionAtlas_2.2.0.tar.gz /Library/Frameworks/R.framework/Resources/bin/R ExpressionAtlas.buildbin-libdir StartedAt: 2025-11-18 15:32:36 -0500 (Tue, 18 Nov 2025) EndedAt: 2025-11-18 15:32:48 -0500 (Tue, 18 Nov 2025) EllapsedTime: 12.2 seconds RetCode: 0 Status: OK PackageFile: ExpressionAtlas_2.2.0.tgz PackageFileSize: 346.8 KiB