Package: ExploreModelMatrix Version: 1.22.0 Command: /home/biocbuild/R/R/bin/R CMD INSTALL ExploreModelMatrix StartedAt: 2025-11-20 22:00:33 -0000 (Thu, 20 Nov 2025) EndedAt: 2025-11-20 22:00:45 -0000 (Thu, 20 Nov 2025) EllapsedTime: 11.8 seconds RetCode: 0 Status: OK