Package: ExploreModelMatrix Version: 1.21.2 Command: /home/biocbuild/bbs-3.22-bioc/R/bin/R CMD INSTALL ExploreModelMatrix StartedAt: 2025-10-24 15:23:26 -0400 (Fri, 24 Oct 2025) EndedAt: 2025-10-24 15:23:35 -0400 (Fri, 24 Oct 2025) EllapsedTime: 8.6 seconds RetCode: 0 Status: OK