Package: ExploreModelMatrix Version: 1.22.0 Command: /Library/Frameworks/R.framework/Resources/bin/R CMD INSTALL ExploreModelMatrix StartedAt: 2025-11-03 15:19:20 -0500 (Mon, 03 Nov 2025) EndedAt: 2025-11-03 15:19:41 -0500 (Mon, 03 Nov 2025) EllapsedTime: 20.7 seconds RetCode: 0 Status: OK