Package: ExploreModelMatrix Version: 1.22.0 Command: rm -rf ExploreModelMatrix.buildbin-libdir && mkdir ExploreModelMatrix.buildbin-libdir && /Users/biocbuild/BBS/utils/build-universal.sh ExploreModelMatrix_1.22.0.tar.gz /Library/Frameworks/R.framework/Resources/bin/R ExploreModelMatrix.buildbin-libdir StartedAt: 2025-11-04 01:39:46 -0500 (Tue, 04 Nov 2025) EndedAt: 2025-11-04 01:40:03 -0500 (Tue, 04 Nov 2025) EllapsedTime: 17.0 seconds RetCode: 0 Status: OK PackageFile: ExploreModelMatrix_1.22.0.tgz PackageFileSize: 2.67 MiB