Package: ExploreModelMatrix Version: 1.21.2 Command: /Library/Frameworks/R.framework/Resources/bin/R CMD INSTALL ExploreModelMatrix StartedAt: 2025-10-26 15:07:07 -0400 (Sun, 26 Oct 2025) EndedAt: 2025-10-26 15:07:12 -0400 (Sun, 26 Oct 2025) EllapsedTime: 4.6 seconds RetCode: 0 Status: OK