Package: ExploreModelMatrix Version: 1.21.2 Command: rm -rf ExploreModelMatrix.buildbin-libdir && mkdir ExploreModelMatrix.buildbin-libdir && /Users/biocbuild/BBS/utils/build-universal.sh ExploreModelMatrix_1.21.2.tar.gz /Library/Frameworks/R.framework/Resources/bin/R ExploreModelMatrix.buildbin-libdir StartedAt: 2025-10-26 22:35:30 -0400 (Sun, 26 Oct 2025) EndedAt: 2025-10-26 22:35:35 -0400 (Sun, 26 Oct 2025) EllapsedTime: 4.1 seconds RetCode: 0 Status: OK PackageFile: ExploreModelMatrix_1.21.2.tgz PackageFileSize: 2.671 MiB