Package: ExploreModelMatrix Version: 1.22.0 Maintainer: Charlotte Soneson MaintainerEmail: charlottesoneson at gmail.com git_url: https://git.bioconductor.org/packages/ExploreModelMatrix git_branch: RELEASE_3_22 git_last_commit: 66ed086 git_last_commit_date: 2025-10-29 10:58:12 -0500 (Wed, 29 Oct 2025)