Package: ExperimentHubData Version: 1.35.0 Command: /home/biocbuild/bbs-3.22-bioc/R/bin/R CMD INSTALL ExperimentHubData StartedAt: 2025-10-24 15:57:10 -0400 (Fri, 24 Oct 2025) EndedAt: 2025-10-24 15:57:49 -0400 (Fri, 24 Oct 2025) EllapsedTime: 38.8 seconds RetCode: 0 Status: OK