Package: ExCluster Version: 1.27.0 Command: /home/biocbuild/bbs-3.22-bioc/R/bin/R CMD build --keep-empty-dirs --no-resave-data --md5 ExCluster StartedAt: 2025-10-24 17:45:05 -0400 (Fri, 24 Oct 2025) EndedAt: 2025-10-24 17:45:52 -0400 (Fri, 24 Oct 2025) EllapsedTime: 47.0 seconds RetCode: 0 Status: OK PackageFile: ExCluster_1.27.0.tar.gz PackageFileSize: 406 KiB