Package: ExCluster Version: 1.28.0 Command: /Library/Frameworks/R.framework/Resources/bin/R CMD build --keep-empty-dirs --no-resave-data ExCluster StartedAt: 2025-11-10 16:22:34 -0500 (Mon, 10 Nov 2025) EndedAt: 2025-11-10 16:22:53 -0500 (Mon, 10 Nov 2025) EllapsedTime: 19.2 seconds RetCode: 0 Status: OK PackageFile: ExCluster_1.28.0.tar.gz PackageFileSize: 405.4 KiB